BEGIN:VCALENDAR
VERSION:2.0
PRODID:-//TekQubes - ECPv6.15.13.1//NONSGML v1.0//EN
CALSCALE:GREGORIAN
METHOD:PUBLISH
X-WR-CALNAME:TekQubes
X-ORIGINAL-URL:https://tekqubes.com
X-WR-CALDESC:Events for TekQubes
REFRESH-INTERVAL;VALUE=DURATION:PT1H
X-Robots-Tag:noindex
X-PUBLISHED-TTL:PT1H
BEGIN:VTIMEZONE
TZID:Europe/Moscow
BEGIN:STANDARD
TZOFFSETFROM:+0300
TZOFFSETTO:+0300
TZNAME:MSK
DTSTART:20210101T000000
END:STANDARD
END:VTIMEZONE
BEGIN:VTIMEZONE
TZID:UTC
BEGIN:STANDARD
TZOFFSETFROM:+0000
TZOFFSETTO:+0000
TZNAME:UTC
DTSTART:20210101T000000
END:STANDARD
END:VTIMEZONE
BEGIN:VEVENT
DTSTART;TZID=Europe/Moscow:20221105T090000
DTEND;TZID=Europe/Moscow:20221105T100000
DTSTAMP:20260423T163142
CREATED:20221007T042754Z
LAST-MODIFIED:20221007T042754Z
UID:3928-1667638800-1667642400@tekqubes.com
SUMMARY:We Tok
DESCRIPTION:
URL:https://tekqubes.com/event/we-tok/
END:VEVENT
BEGIN:VEVENT
DTSTART;VALUE=DATE:20220202
DTEND;VALUE=DATE:20220203
DTSTAMP:20260423T163142
CREATED:20220116T200321Z
LAST-MODIFIED:20220121T005326Z
UID:2861-1643760000-1643846399@tekqubes.com
SUMMARY:Spring-Robotics
DESCRIPTION:Join our classes are filling up\, let’s have fun and learn. \nGrab a spot- First come first serve \nSimple Contact FormPlease enable JavaScript in your browser to complete this form.Name *Email *Subject *Message *Send Message
URL:https://tekqubes.com/event/spring-robotics/
END:VEVENT
END:VCALENDAR